BEGIN:VCALENDAR
VERSION:2.0
PRODID:-//Community First Health Plans - ECPv6.14.2//NONSGML v1.0//EN
CALSCALE:GREGORIAN
METHOD:PUBLISH
X-WR-CALNAME:Community First Health Plans
X-ORIGINAL-URL:https://communityfirsthealthplans.com
X-WR-CALDESC:Events for Community First Health Plans
REFRESH-INTERVAL;VALUE=DURATION:PT1H
X-Robots-Tag:noindex
X-PUBLISHED-TTL:PT1H
BEGIN:VTIMEZONE
TZID:America/Chicago
BEGIN:DAYLIGHT
TZOFFSETFROM:-0600
TZOFFSETTO:-0500
TZNAME:CDT
DTSTART:20240310T080000
END:DAYLIGHT
BEGIN:STANDARD
TZOFFSETFROM:-0500
TZOFFSETTO:-0600
TZNAME:CST
DTSTART:20241103T070000
END:STANDARD
END:VTIMEZONE
BEGIN:VEVENT
DTSTART;TZID=America/Chicago:20240423T100000
DTEND;TZID=America/Chicago:20240423T150000
DTSTAMP:20260424T045828
CREATED:20240318T205847Z
LAST-MODIFIED:20240328T210718Z
UID:251305-1713866400-1713884400@communityfirsthealthplans.com
SUMMARY:Fiesta Especial® Celebration Day (Fiesta Medal Event)
DESCRIPTION:San Antonio loves to Fiesta\, and this special event provides family-friendly experiences that are inclusive and accessible to individuals with disabilities and families! Enjoy fun rides\, delicious food\, and great entertainment\, and rest easy with supportive amenities such as a mobile changing unit\, sensory escape room\, and specialized nurses onsite. \nMarketing representatives will be available to answer questions about Community First insurance plans for members and potential members. \n\nRegister Here
URL:https://communityfirsthealthplans.com/event/fiesta-especial-celebration-day/
LOCATION:Alamo Dome Parking Lot C\, 100 Montana St.\, San Antonio\, TX\, 78203
CATEGORIES:Community Events
ATTACH;FMTTYPE=image/png:https://communityfirsthealthplans.com/wp-content/uploads/2024/03/2024-fecd-event-header_orig.png
END:VEVENT
END:VCALENDAR