BEGIN:VCALENDAR
VERSION:2.0
PRODID:-//Community First Health Plans - ECPv6.14.2//NONSGML v1.0//EN
CALSCALE:GREGORIAN
METHOD:PUBLISH
X-ORIGINAL-URL:https://communityfirsthealthplans.com
X-WR-CALDESC:Events for Community First Health Plans
REFRESH-INTERVAL;VALUE=DURATION:PT1H
X-Robots-Tag:noindex
X-PUBLISHED-TTL:PT1H
BEGIN:VTIMEZONE
TZID:America/Chicago
BEGIN:DAYLIGHT
TZOFFSETFROM:-0600
TZOFFSETTO:-0500
TZNAME:CDT
DTSTART:20240310T080000
END:DAYLIGHT
BEGIN:STANDARD
TZOFFSETFROM:-0500
TZOFFSETTO:-0600
TZNAME:CST
DTSTART:20241103T070000
END:STANDARD
END:VTIMEZONE
BEGIN:VEVENT
DTSTART;TZID=America/Chicago:20240505T073000
DTEND;TZID=America/Chicago:20240505T103000
DTSTAMP:20260424T134653
CREATED:20240417T151410Z
LAST-MODIFIED:20240417T151601Z
UID:251440-1714894200-1714905000@communityfirsthealthplans.com
SUMMARY:Girls on the Run 5K
DESCRIPTION:Girls on the Run inspires participants to stand up for themselves\, stay active\, and meet their full potential. Celebrate the end of their program with them at this fun 5K race! \nMarketing representatives will be available to answer questions about Community First insurance plans for members and potential members. \n*General Registration is $35. Day-of registration will be $40. \n\nRegister Here
URL:https://communityfirsthealthplans.com/event/girls-on-the-run-5k/
LOCATION:Mission County Park\, 6030 Padre Drive\, San Antonio\, TX\, 78214
CATEGORIES:Community Events
ATTACH;FMTTYPE=image/png:https://communityfirsthealthplans.com/wp-content/uploads/2024/04/race58162-logo.bH1n-D.png
END:VEVENT
END:VCALENDAR