BEGIN:VCALENDAR
VERSION:2.0
PRODID:-//Community First Health Plans - ECPv6.14.2//NONSGML v1.0//EN
CALSCALE:GREGORIAN
METHOD:PUBLISH
X-ORIGINAL-URL:https://communityfirsthealthplans.com
X-WR-CALDESC:Events for Community First Health Plans
REFRESH-INTERVAL;VALUE=DURATION:PT1H
X-Robots-Tag:noindex
X-PUBLISHED-TTL:PT1H
BEGIN:VTIMEZONE
TZID:America/Chicago
BEGIN:DAYLIGHT
TZOFFSETFROM:-0600
TZOFFSETTO:-0500
TZNAME:CDT
DTSTART:20240310T080000
END:DAYLIGHT
BEGIN:STANDARD
TZOFFSETFROM:-0500
TZOFFSETTO:-0600
TZNAME:CST
DTSTART:20241103T070000
END:STANDARD
END:VTIMEZONE
BEGIN:VEVENT
DTSTART;TZID=America/Chicago:20240511T100000
DTEND;TZID=America/Chicago:20240511T150000
DTSTAMP:20260424T134736
CREATED:20240417T162059Z
LAST-MODIFIED:20240417T162059Z
UID:251444-1715421600-1715439600@communityfirsthealthplans.com
SUMMARY:NAMI Your Best Life Festival
DESCRIPTION:Community First is a proud sponsor of the Your Best Life Festival! Receive health information and resources from local organizations\, then enjoy food trucks\, giveaways\, fitness demos\, and more. Bring the whole family for fun children’s activities including a bounce house and face painting! \nMarketing representatives will be available to answer questions about Community First insurance plans for members and potential members. \n 
URL:https://communityfirsthealthplans.com/event/nami-your-best-life-festival/
LOCATION:Seguin Coliseum\, 950 S Austin St\, Seguin\, TX\, 78155
CATEGORIES:Community Events
ATTACH;FMTTYPE=image/png:https://communityfirsthealthplans.com/wp-content/uploads/2024/04/gold-stack-1line.png
END:VEVENT
END:VCALENDAR