BEGIN:VCALENDAR
VERSION:2.0
PRODID:-//Community First Health Plans - ECPv6.14.2//NONSGML v1.0//EN
CALSCALE:GREGORIAN
METHOD:PUBLISH
X-WR-CALNAME:Community First Health Plans
X-ORIGINAL-URL:https://communityfirsthealthplans.com
X-WR-CALDESC:Events for Community First Health Plans
REFRESH-INTERVAL;VALUE=DURATION:PT1H
X-Robots-Tag:noindex
X-PUBLISHED-TTL:PT1H
BEGIN:VTIMEZONE
TZID:America/Chicago
BEGIN:DAYLIGHT
TZOFFSETFROM:-0600
TZOFFSETTO:-0500
TZNAME:CDT
DTSTART:20240310T080000
END:DAYLIGHT
BEGIN:STANDARD
TZOFFSETFROM:-0500
TZOFFSETTO:-0600
TZNAME:CST
DTSTART:20241103T070000
END:STANDARD
END:VTIMEZONE
BEGIN:VEVENT
DTSTART;TZID=America/Chicago:20241015T090000
DTEND;TZID=America/Chicago:20241015T120000
DTSTAMP:20260423T033502
CREATED:20240911T143529Z
LAST-MODIFIED:20240911T143529Z
UID:252159-1728982800-1728993600@communityfirsthealthplans.com
SUMMARY:White Cane Day
DESCRIPTION:October 15th is White Cane Awareness Day across the United States! This event celebrates the achievements of those who are blind or visually impaired\, and raises awareness for these important members of our community. Enjoy inspirational speakers and pick up free resources and information! \nMarketing representatives will be available to answer questions about Community First insurance plans for members and potential members.
URL:https://communityfirsthealthplans.com/event/white-cane-day/
LOCATION:Yanaguana Garden\, 434 S. Alamo St\, San Antonio\, TX\, 78205
CATEGORIES:Community Events
END:VEVENT
END:VCALENDAR