BEGIN:VCALENDAR
VERSION:2.0
PRODID:-//Community First Health Plans - ECPv6.14.2//NONSGML v1.0//EN
CALSCALE:GREGORIAN
METHOD:PUBLISH
X-ORIGINAL-URL:https://communityfirsthealthplans.com
X-WR-CALDESC:Events for Community First Health Plans
REFRESH-INTERVAL;VALUE=DURATION:PT1H
X-Robots-Tag:noindex
X-PUBLISHED-TTL:PT1H
BEGIN:VTIMEZONE
TZID:America/Chicago
BEGIN:DAYLIGHT
TZOFFSETFROM:-0600
TZOFFSETTO:-0500
TZNAME:CDT
DTSTART:20260308T080000
END:DAYLIGHT
BEGIN:STANDARD
TZOFFSETFROM:-0500
TZOFFSETTO:-0600
TZNAME:CST
DTSTART:20261101T070000
END:STANDARD
END:VTIMEZONE
BEGIN:VEVENT
DTSTART;TZID=America/Chicago:20260507T090000
DTEND;TZID=America/Chicago:20260507T110000
DTSTAMP:20260425T151707
CREATED:20260403T163531Z
LAST-MODIFIED:20260403T163531Z
UID:318207-1778144400-1778151600@communityfirsthealthplans.com
SUMMARY:Healthy Texan Week Event
DESCRIPTION:Join us for events across the state and online\, designed to inspire wellness and bring Texans together through fun\, free\, and community-driven activities.\n 
URL:https://communityfirsthealthplans.com/event/healthy-texan-week-event-2026/
LOCATION:Progreso Hall\, 1306 Guadalupe St\, San Antonio\, TX\, 78207
END:VEVENT
BEGIN:VEVENT
DTSTART;TZID=America/Chicago:20260507T170000
DTEND;TZID=America/Chicago:20260507T180000
DTSTAMP:20260425T151707
CREATED:20260316T155124Z
LAST-MODIFIED:20260316T155124Z
UID:317803-1778173200-1778176800@communityfirsthealthplans.com
SUMMARY:Zumba Fitness in the Park
DESCRIPTION:Community First in-person Zumba sponsorship will be held every Thursday from 5 p.m. – 6 p.m. at Enrique Barrera Community Fitness Center located at 5800 Historic Old Highway 90 (formerly 5800 Enrique M Barrera Parkway) – in the multipurpose room. The community is welcome to attend.\n\nA marketing representative will be available to answer questions about Community First insurance plans for members and potential members.\n\nNo registration is required.
URL:https://communityfirsthealthplans.com/event/zumba-fitness-in-the-park-5-7-26/
LOCATION:Enrique Barrera Community Fitness Center- Multipurpose Room\, 5800 Enrique M Barrera Pkwy\, San Antonio\, Texas\, 78227
ATTACH;FMTTYPE=image/png:https://communityfirsthealthplans.com/wp-content/uploads/2023/01/1920x1080.png
END:VEVENT
END:VCALENDAR